BEGIN:VCALENDAR
VERSION:2.0
PRODID:-//Kkrs - ECPv6.15.20//NONSGML v1.0//EN
CALSCALE:GREGORIAN
METHOD:PUBLISH
X-WR-CALNAME:Kkrs
X-ORIGINAL-URL:https://kkrs-kleve.de
X-WR-CALDESC:Veranstaltungen für Kkrs
REFRESH-INTERVAL;VALUE=DURATION:PT1H
X-Robots-Tag:noindex
X-PUBLISHED-TTL:PT1H
BEGIN:VTIMEZONE
TZID:Europe/Berlin
BEGIN:DAYLIGHT
TZOFFSETFROM:+0100
TZOFFSETTO:+0200
TZNAME:CEST
DTSTART:20250330T010000
END:DAYLIGHT
BEGIN:STANDARD
TZOFFSETFROM:+0200
TZOFFSETTO:+0100
TZNAME:CET
DTSTART:20251026T010000
END:STANDARD
BEGIN:DAYLIGHT
TZOFFSETFROM:+0100
TZOFFSETTO:+0200
TZNAME:CEST
DTSTART:20260329T010000
END:DAYLIGHT
BEGIN:STANDARD
TZOFFSETFROM:+0200
TZOFFSETTO:+0100
TZNAME:CET
DTSTART:20261025T010000
END:STANDARD
BEGIN:DAYLIGHT
TZOFFSETFROM:+0100
TZOFFSETTO:+0200
TZNAME:CEST
DTSTART:20270328T010000
END:DAYLIGHT
BEGIN:STANDARD
TZOFFSETFROM:+0200
TZOFFSETTO:+0100
TZNAME:CET
DTSTART:20271031T010000
END:STANDARD
END:VTIMEZONE
BEGIN:VEVENT
DTSTART;TZID=Europe/Berlin:20260423T080000
DTEND;TZID=Europe/Berlin:20260423T170000
DTSTAMP:20260423T012509
CREATED:20260319T212841Z
LAST-MODIFIED:20260319T212841Z
UID:5873-1776931200-1776963600@kkrs-kleve.de
SUMMARY:Boys-/Girls-Day
DESCRIPTION:
URL:https://kkrs-kleve.de/event/boys-girls-day/
END:VEVENT
BEGIN:VEVENT
DTSTART;TZID=Europe/Berlin:20260423T080000
DTEND;TZID=Europe/Berlin:20260423T170000
DTSTAMP:20260423T012509
CREATED:20260319T212903Z
LAST-MODIFIED:20260319T212903Z
UID:5875-1776931200-1776963600@kkrs-kleve.de
SUMMARY:France-Mobil
DESCRIPTION:
URL:https://kkrs-kleve.de/event/france-mobil/
END:VEVENT
END:VCALENDAR